BEGIN:VCALENDAR
VERSION:2.0
PRODID:-//Tukios.com/
BEGIN:VEVENT
UID:dbdaf11e-3806-47be-9ec2-738aecf6f922@www.adamsswanson.com
DTSTAMP:20260419T233337Z
DTSTART:20260421T170000Z
DTEND:20260422T000000Z
SUMMARY:Visitation
DESCRIPTION:
URL:https://www.adamsswanson.com/obituaries/joy-boyer
LOCATION:Adams & Swanson Funeral Home 421 W 4th St  North Platte NE 69101
GEO:41.1374272;-100.7678178
END:VEVENT
END:VCALENDAR