BEGIN:VCALENDAR
VERSION:2.0
PRODID:-//Tukios.com/
BEGIN:VEVENT
UID:7f851d3d-6919-47b7-882d-e22d4a00d1ce@www.adamsswanson.com
DTSTAMP:20260419T233557Z
DTSTART:20260422T163000Z
DTEND:20260422T173000Z
SUMMARY:Funeral Service
DESCRIPTION:
URL:https://www.adamsswanson.com/obituaries/joy-boyer
LOCATION:Calvary Episcopal Church 302 East Highway 2  Hyannis NE 69350
GEO:42.001182;-101.7651282
END:VEVENT
END:VCALENDAR