BEGIN:VCALENDAR
VERSION:2.0
PRODID:-//Tukios.com/
BEGIN:VEVENT
UID:b6e8fa5b-692b-470e-b10e-5ec394adb9c8@www.adamsswanson.com
DTSTAMP:20260419T233629Z
DTSTART:20260422
SUMMARY:Burial
DESCRIPTION:
URL:https://www.adamsswanson.com/obituaries/joy-boyer
LOCATION:Whitman Cemetery Whitman Cemetery  Hyannis NE 69350
GEO:41.9998464;-101.7708746
END:VEVENT
END:VCALENDAR