BEGIN:VCALENDAR
VERSION:2.0
PRODID:-//Tukios.com/
BEGIN:VEVENT
UID:d731b58e-2f9f-48e1-b6d8-85e73a5c2669@www.adamsswanson.com
DTSTAMP:20260422T002535Z
DTSTART:20260427T000000Z
DTEND:20260427T010000Z
SUMMARY:Rosary
DESCRIPTION:
URL:https://www.adamsswanson.com/obituaries/virginia-snodgrass
LOCATION: 421 W 4th St  North Platte NE 69101
GEO:41.1374272;-100.7678178
END:VEVENT
END:VCALENDAR