BEGIN:VCALENDAR
VERSION:2.0
PRODID:-//Tukios.com/
BEGIN:VEVENT
UID:eeb702cd-877e-4a2d-8172-cb2c61f180f2@www.adamsswanson.com
DTSTAMP:20260422T002429Z
DTSTART:20260426T210000Z
DTEND:20260427T000000Z
SUMMARY:Visitation
DESCRIPTION:
URL:https://www.adamsswanson.com/obituaries/virginia-snodgrass
LOCATION:Adams & Swanson Funeral Home 421 W 4th St  North Platte NE 69101
GEO:41.1374272;-100.7678178
END:VEVENT
END:VCALENDAR