BEGIN:VCALENDAR
VERSION:2.0
PRODID:-//Tukios.com/
BEGIN:VEVENT
UID:1340a8ad-11ed-413b-9caf-797c9ae8bc80@www.adamsswanson.com
DTSTAMP:20260422T002819Z
DTSTART:20260427T150000Z
DTEND:20260427T160000Z
SUMMARY:Mass
DESCRIPTION:
URL:https://www.adamsswanson.com/obituaries/virginia-snodgrass
LOCATION: 421 W 4th St  North Platte NE 69101
GEO:41.1374272;-100.7678178
END:VEVENT
END:VCALENDAR